BEGIN:VCALENDAR
VERSION:2.0
PRODID:icalendar-ruby
CALSCALE:GREGORIAN
METHOD:PUBLISH
BEGIN:VEVENT
DTSTAMP:20260420T103550Z
UID:6-267611@3bfellowship.org
DTSTART:20260415T030000Z
DTEND:20260415T040000Z
CLASS:PUBLIC
CREATED:20260420T005744
DESCRIPTION:IRON Dates and Facilitators\nTuesdays\nFacilitators: Dan\, Zach
 \, Sean and Tony (Alternate Facilitator-Mike)\nMarch 31\, 2026-Exodus 1-To
 ny\nApril 7\, 2026-Exodus 8-Mike\nApril 14\, 2026-Exodus 15-Dan\nApril 21\
 , 2026-Exodus 22-Sean\nApril 28\, 2026-Exodus 29-Mike\nMay 5\, 2026-Exodus
  36-Tony\nMay 12\, 2026-Acts 2-Dan\nMay 19\, 2026-Acts 9-Sean\nMay 26\, 20
 26-Acts 16-Mike\nJune 2\, 2026-Acts 23-Tony\nJune 9\, 2026-Esther 1 (Inclu
 de Side B)-Dan\nJune 16\, 2026-Esther 8-Sean\nJune 23\, 2026-1st Thessalon
 ians 3-Mike
LAST-MODIFIED:20260420T005744
LOCATION:meet.google.com/fax-ocza-hzh
SUMMARY:Tuesday Night (online) IRON
URL;VALUE=URI:https://www.3bfellowship.org/events/tuesday-night-online-iron
 /2026-04-14
ATTACH;FILENAME=1V3I.jpg;FMTTYPE=image/jpeg:https://dq5pwpg1q8ru0.cloudfron
 t.net/2025/10/19/17/31/47/0d5e1f64-b53c-401f-88d6-860802cccb78/1V3I.jpg
END:VEVENT
END:VCALENDAR
