BEGIN:VCALENDAR
VERSION:2.0
PRODID:icalendar-ruby
CALSCALE:GREGORIAN
METHOD:PUBLISH
BEGIN:VEVENT
DTSTAMP:20260420T121540Z
UID:13-263959@3bfellowship.org
DTSTART:20260516T160000Z
DTEND:20260516T220000Z
CLASS:PUBLIC
CREATED:20260414T094559
DESCRIPTION:
LAST-MODIFIED:20260414T094559
LOCATION:Thornapple
SUMMARY:3B Tour Event-individual stroke play
URL;VALUE=URI:https://www.3bfellowship.org/events/3b-tour-event-individual-
 stroke-play/2026-05-16
ATTACH;FILENAME=Tour-Schedule.jpg;FMTTYPE=image/jpeg:https://dq5pwpg1q8ru0.
 cloudfront.net/2026/04/14/16/37/04/20864472-2b59-45b3-8398-590ab1ee514e/To
 ur-Schedule.jpg
END:VEVENT
END:VCALENDAR
