BEGIN:VCALENDAR
VERSION:2.0
PRODID:icalendar-ruby
CALSCALE:GREGORIAN
METHOD:PUBLISH
BEGIN:VEVENT
DTSTAMP:20260420T133052Z
UID:19-263964@3bfellowship.org
DTSTART:20260808T163000Z
DTEND:20260808T223000Z
CLASS:PUBLIC
CREATED:20260414T095237
DESCRIPTION:
LAST-MODIFIED:20260414T095237
LOCATION:Denison
SUMMARY:3B Tour Event-individual stroke play
URL;VALUE=URI:https://www.3bfellowship.org/events/3b-tour-event-individual-
 stroke-play--19/2026-08-08
ATTACH;FILENAME=Tour-Schedule.jpg;FMTTYPE=image/jpeg:https://dq5pwpg1q8ru0.
 cloudfront.net/2026/04/14/16/52/37/5b89be25-a898-42cd-94bf-d0e1ff800abb/To
 ur-Schedule.jpg
END:VEVENT
END:VCALENDAR
