BEGIN:VCALENDAR
VERSION:2.0
PRODID:icalendar-ruby
CALSCALE:GREGORIAN
METHOD:PUBLISH
BEGIN:VEVENT
DTSTAMP:20260420T120853Z
UID:18-263963@3bfellowship.org
DTSTART:20260725T183000Z
DTEND:20260726T003000Z
CLASS:PUBLIC
CREATED:20260414T095051
DESCRIPTION:
LAST-MODIFIED:20260414T095051
LOCATION:The Ridge
SUMMARY:3B Tour Event-individual stroke play
URL;VALUE=URI:https://www.3bfellowship.org/events/3b-tour-event-individual-
 stroke-play--18/2026-07-25
ATTACH;FILENAME=Tour-Schedule.jpg;FMTTYPE=image/jpeg:https://dq5pwpg1q8ru0.
 cloudfront.net/2026/04/14/16/50/51/2ecac71d-7552-4974-a5ee-d3b65999fa39/To
 ur-Schedule.jpg
END:VEVENT
END:VCALENDAR
