BEGIN:VCALENDAR
VERSION:2.0
PRODID:icalendar-ruby
CALSCALE:GREGORIAN
METHOD:PUBLISH
BEGIN:VEVENT
DTSTAMP:20260420T121234Z
UID:17-263962@3bfellowship.org
DTSTART:20260711T183000Z
DTEND:20260712T000000Z
CLASS:PUBLIC
CREATED:20260414T094827
DESCRIPTION:
LAST-MODIFIED:20260414T094827
LOCATION:Oakhaven
SUMMARY:3B Tour Event-individual stroke play
URL;VALUE=URI:https://www.3bfellowship.org/events/3b-tour-event-individual-
 stroke-play--17/2026-07-11
ATTACH;FILENAME=Tour-Schedule.jpg;FMTTYPE=image/jpeg:https://dq5pwpg1q8ru0.
 cloudfront.net/2026/04/14/16/48/27/e06143f5-c9cc-4a2a-8a32-f93d74d4939e/To
 ur-Schedule.jpg
END:VEVENT
END:VCALENDAR
