BEGIN:VCALENDAR
VERSION:2.0
PRODID:icalendar-ruby
CALSCALE:GREGORIAN
METHOD:PUBLISH
BEGIN:VEVENT
DTSTAMP:20260420T121359Z
UID:15-263961@3bfellowship.org
DTSTART:20260613T160000Z
DTEND:20260613T220000Z
CLASS:PUBLIC
CREATED:20260414T094649
DESCRIPTION:
LAST-MODIFIED:20260414T094649
LOCATION:Raymond Memorial
SUMMARY:3B Tour Event-individual stroke play
URL;VALUE=URI:https://www.3bfellowship.org/events/3b-tour-event-individual-
 stroke-play--15/2026-06-13
ATTACH;FILENAME=Tour-Schedule.jpg;FMTTYPE=image/jpeg:https://dq5pwpg1q8ru0.
 cloudfront.net/2026/04/14/16/41/38/63b37ead-24b5-43c2-a201-674844946628/To
 ur-Schedule.jpg
END:VEVENT
END:VCALENDAR
