BEGIN:VCALENDAR
VERSION:2.0
PRODID:icalendar-ruby
CALSCALE:GREGORIAN
METHOD:PUBLISH
BEGIN:VEVENT
DTSTAMP:20260420T121530Z
UID:14-263960@3bfellowship.org
DTSTART:20260530T160000Z
DTEND:20260530T220000Z
CLASS:PUBLIC
CREATED:20260414T094627
DESCRIPTION:
LAST-MODIFIED:20260414T094627
LOCATION:Darby Creek
SUMMARY:3B Tour Event-individual stroke play
URL;VALUE=URI:https://www.3bfellowship.org/events/3b-tour-event-individual-
 stroke-play--14/2026-05-30
ATTACH;FILENAME=Tour-Schedule.jpg;FMTTYPE=image/jpeg:https://dq5pwpg1q8ru0.
 cloudfront.net/2026/04/14/16/39/39/4e20862d-b939-4060-aa8d-b0f415a673ef/To
 ur-Schedule.jpg
END:VEVENT
END:VCALENDAR
