BEGIN:VCALENDAR
VERSION:2.0
PRODID:icalendar-ruby
CALSCALE:GREGORIAN
METHOD:PUBLISH
BEGIN:VEVENT
DTSTAMP:20260420T120736Z
UID:16-263956@3bfellowship.org
DTSTART:20260627T160000Z
DTEND:20260627T220000Z
CLASS:PUBLIC
CREATED:20260414T094319
DESCRIPTION:
LAST-MODIFIED:20260414T094319
LOCATION:Mill Creek
SUMMARY:3B Tour Event: 2-man best ball
URL;VALUE=URI:https://www.3bfellowship.org/events/3b-tour-event-2-man-best-
 ball/2026-06-27
ATTACH;FILENAME=Tour-Schedule.jpg;FMTTYPE=image/jpeg:https://dq5pwpg1q8ru0.
 cloudfront.net/2026/04/14/16/43/19/29500f94-bf1c-45ad-bf60-92e16652edf8/To
 ur-Schedule.jpg
END:VEVENT
END:VCALENDAR
