BEGIN:VCALENDAR
VERSION:2.0
PRODID:icalendar-ruby
CALSCALE:GREGORIAN
METHOD:PUBLISH
BEGIN:VEVENT
DTSTAMP:20260420T121412Z
UID:12-263958@3bfellowship.org
DTSTART:20260502T160000Z
DTEND:20260502T220000Z
CLASS:PUBLIC
CREATED:20260414T094540
DESCRIPTION:
LAST-MODIFIED:20260414T094540
LOCATION:Cumberland Trail
SUMMARY:2026 3B Tour Event- individual stroke play
URL;VALUE=URI:https://www.3bfellowship.org/events/2026-3b-tour-event-indivi
 dual-stroke-play/2026-05-02
ATTACH;FILENAME=Tour-Schedule.jpg;FMTTYPE=image/jpeg:https://dq5pwpg1q8ru0.
 cloudfront.net/2026/04/14/16/31/45/0bde760a-8bc4-43e0-8bec-a035a4792b38/To
 ur-Schedule.jpg
ATTACH;FILENAME=2026 3B TOUR SCHEDULE.pdf;FMTTYPE=application/pdf:https://d
 q5pwpg1q8ru0.cloudfront.net/2026/04/14/16/31/45/6cd347cd-dbcb-4129-8046-2d
 afa701e5a1/2026%203B%20TOUR%20SCHEDULE.pdf
END:VEVENT
END:VCALENDAR
