BEGIN:VCALENDAR
VERSION:2.0
PRODID:icalendar-ruby
CALSCALE:GREGORIAN
METHOD:PUBLISH
BEGIN:VEVENT
DTSTAMP:20260420T135302Z
UID:20-263966@3bfellowship.org
DTSTART:20260829T190000Z
DTEND:20260830T010000Z
CLASS:PUBLIC
CREATED:20260414T095558
DESCRIPTION:
LAST-MODIFIED:20260414T095558
LOCATION:Urbana
SUMMARY:2026 3B Tour Championship
URL;VALUE=URI:https://www.3bfellowship.org/events/2026-3b-tour-championship
 /2026-08-29
ATTACH;FILENAME=IMG_8726.jpg;FMTTYPE=image/jpeg:https://dq5pwpg1q8ru0.cloud
 front.net/2026/04/14/16/54/59/f29ce223-9c35-4b61-a646-e1009156d93b/IMG_872
 6.jpg
END:VEVENT
END:VCALENDAR
